BEGIN:VCALENDAR
VERSION:2.0
PRODID:-//Simpson College - ECPv6.15.18//NONSGML v1.0//EN
CALSCALE:GREGORIAN
METHOD:PUBLISH
X-WR-CALNAME:Simpson College
X-ORIGINAL-URL:https://simpson.edu
X-WR-CALDESC:Events for Simpson College
REFRESH-INTERVAL;VALUE=DURATION:PT1H
X-Robots-Tag:noindex
X-PUBLISHED-TTL:PT1H
BEGIN:VTIMEZONE
TZID:America/Chicago
BEGIN:DAYLIGHT
TZOFFSETFROM:-0600
TZOFFSETTO:-0500
TZNAME:CDT
DTSTART:20250309T080000
END:DAYLIGHT
BEGIN:STANDARD
TZOFFSETFROM:-0500
TZOFFSETTO:-0600
TZNAME:CST
DTSTART:20251102T070000
END:STANDARD
BEGIN:DAYLIGHT
TZOFFSETFROM:-0600
TZOFFSETTO:-0500
TZNAME:CDT
DTSTART:20260308T080000
END:DAYLIGHT
BEGIN:STANDARD
TZOFFSETFROM:-0500
TZOFFSETTO:-0600
TZNAME:CST
DTSTART:20261101T070000
END:STANDARD
BEGIN:DAYLIGHT
TZOFFSETFROM:-0600
TZOFFSETTO:-0500
TZNAME:CDT
DTSTART:20270314T080000
END:DAYLIGHT
BEGIN:STANDARD
TZOFFSETFROM:-0500
TZOFFSETTO:-0600
TZNAME:CST
DTSTART:20271107T070000
END:STANDARD
END:VTIMEZONE
BEGIN:VEVENT
DTSTART;TZID=America/Chicago:20260501T080000
DTEND;TZID=America/Chicago:20260501T220000
DTSTAMP:20260422T143512
CREATED:20260422T155526Z
LAST-MODIFIED:20260422T155824Z
UID:15329-1777622400-1777672800@simpson.edu
SUMMARY:100 Days of Seniors Graduation Party
DESCRIPTION:The Class of 2026 is invited to celebrate one final time before Commencement. Join us at West Hill Brewing Company on Friday\, May 1 from 8-10pm for a graduation party hosted by the Simpson College Alumni Association.
URL:https://simpson.edu/event/100-days-of-seniors-graduation-party/
LOCATION:West Hill Brewing Company
ORGANIZER;CN="Steven Strope":MAILTO:steven.strope@simpson.edu
END:VEVENT
END:VCALENDAR