BEGIN:VCALENDAR
VERSION:2.0
PRODID:-//Simpson College - ECPv6.15.18//NONSGML v1.0//EN
CALSCALE:GREGORIAN
METHOD:PUBLISH
X-WR-CALNAME:Simpson College
X-ORIGINAL-URL:https://simpson.edu
X-WR-CALDESC:Events for Simpson College
REFRESH-INTERVAL;VALUE=DURATION:PT1H
X-Robots-Tag:noindex
X-PUBLISHED-TTL:PT1H
BEGIN:VTIMEZONE
TZID:America/Chicago
BEGIN:DAYLIGHT
TZOFFSETFROM:-0600
TZOFFSETTO:-0500
TZNAME:CDT
DTSTART:20250309T080000
END:DAYLIGHT
BEGIN:STANDARD
TZOFFSETFROM:-0500
TZOFFSETTO:-0600
TZNAME:CST
DTSTART:20251102T070000
END:STANDARD
BEGIN:DAYLIGHT
TZOFFSETFROM:-0600
TZOFFSETTO:-0500
TZNAME:CDT
DTSTART:20260308T080000
END:DAYLIGHT
BEGIN:STANDARD
TZOFFSETFROM:-0500
TZOFFSETTO:-0600
TZNAME:CST
DTSTART:20261101T070000
END:STANDARD
BEGIN:DAYLIGHT
TZOFFSETFROM:-0600
TZOFFSETTO:-0500
TZNAME:CDT
DTSTART:20270314T080000
END:DAYLIGHT
BEGIN:STANDARD
TZOFFSETFROM:-0500
TZOFFSETTO:-0600
TZNAME:CST
DTSTART:20271107T070000
END:STANDARD
END:VTIMEZONE
BEGIN:VEVENT
DTSTART;VALUE=DATE:20260423
DTEND;VALUE=DATE:20260424
DTSTAMP:20260422T143348
CREATED:20260422T155707Z
LAST-MODIFIED:20260422T155941Z
UID:15335-1776902400-1776988799@simpson.edu
SUMMARY:Undergraduate Research and Creativity Symposium
DESCRIPTION:The annual Simpson College Research and Creativity Symposium (RCS) is a multi-disciplinary event that showcases outstanding student work through the presentation of papers\, performances\, posters and panel discussions. The symposium gives students an opportunity to share their knowledge with instructors and peers in a scholarly\, supportive environment that thrives on inquisitiveness and interaction. \nSCHEDULE
URL:https://simpson.edu/event/undergraduate-research-and-creativity-symposium/
END:VEVENT
END:VCALENDAR