BEGIN:VCALENDAR
VERSION:2.0
PRODID:-//Simpson College - ECPv6.15.18//NONSGML v1.0//EN
CALSCALE:GREGORIAN
METHOD:PUBLISH
X-ORIGINAL-URL:https://simpson.edu
X-WR-CALDESC:Events for Simpson College
REFRESH-INTERVAL;VALUE=DURATION:PT1H
X-Robots-Tag:noindex
X-PUBLISHED-TTL:PT1H
BEGIN:VTIMEZONE
TZID:America/Chicago
BEGIN:DAYLIGHT
TZOFFSETFROM:-0600
TZOFFSETTO:-0500
TZNAME:CDT
DTSTART:20250309T080000
END:DAYLIGHT
BEGIN:STANDARD
TZOFFSETFROM:-0500
TZOFFSETTO:-0600
TZNAME:CST
DTSTART:20251102T070000
END:STANDARD
BEGIN:DAYLIGHT
TZOFFSETFROM:-0600
TZOFFSETTO:-0500
TZNAME:CDT
DTSTART:20260308T080000
END:DAYLIGHT
BEGIN:STANDARD
TZOFFSETFROM:-0500
TZOFFSETTO:-0600
TZNAME:CST
DTSTART:20261101T070000
END:STANDARD
BEGIN:DAYLIGHT
TZOFFSETFROM:-0600
TZOFFSETTO:-0500
TZNAME:CDT
DTSTART:20270314T080000
END:DAYLIGHT
BEGIN:STANDARD
TZOFFSETFROM:-0500
TZOFFSETTO:-0600
TZNAME:CST
DTSTART:20271107T070000
END:STANDARD
END:VTIMEZONE
BEGIN:VEVENT
DTSTART;TZID=America/Chicago:20260309T190000
DTEND;TZID=America/Chicago:20260309T200000
DTSTAMP:20260420T221705
CREATED:20260305T204510Z
LAST-MODIFIED:20260305T205155Z
UID:14783-1773082800-1773086400@simpson.edu
SUMMARY:Noah Smith\, Organist
DESCRIPTION:Performing works by Vierne\, Bach\, Hurd\, and a new composition by Iowa Composer Josyph Glasebrook.
URL:https://simpson.edu/event/noah-smith-organist/
LOCATION:Smith Chapel\, 701 N C St\, Indianola\, IA\, 50125\, United States
ORGANIZER;CN="Renae Loomis":MAILTO:renae.loomis@simpson.edu
END:VEVENT
BEGIN:VEVENT
DTSTART;TZID=America/Chicago:20260311T190000
DTEND;TZID=America/Chicago:20260311T200000
DTSTAMP:20260420T221705
CREATED:20260302T213257Z
LAST-MODIFIED:20260304T211128Z
UID:14754-1773255600-1773259200@simpson.edu
SUMMARY:Data Centers & Public Resources
DESCRIPTION:A panel discussion on Data Centers & Public Resources\, co-sponsored by the John C. Culver Public Policy Center and the Interdisciplinary Studies Program. \nModerator: \nKathie Obradovich\, Editor\, Iowa Capital Dispatch \nPanelists: \nJay Ceperley ‘25\, Advocacy Coordinator\, Iowa Association of Electric Cooperatives \nChristina Murphy\, General Manager\, West Des Moines Water Works \nChad Quick\, Economic Development Director\, City of Altoona \nSami Scheetz\, Linn County Board of Supervisors \nBrian Waller\, President\, Technology Association of Iowa
URL:https://simpson.edu/event/data-centers-public-resources/
LOCATION:Lekberg Hall\, Amy Robertson Music Center\, 503 N Buxton St.\, Indianola\, IA\, 50125\, United States
ORGANIZER;CN="Seth Andersen":MAILTO:seth.andersen@simpson.edu
END:VEVENT
BEGIN:VEVENT
DTSTART;TZID=America/Chicago:20260325T130000
DTEND;TZID=America/Chicago:20260325T140000
DTSTAMP:20260420T221705
CREATED:20251212T165335Z
LAST-MODIFIED:20260225T153146Z
UID:13724-1774443600-1774447200@simpson.edu
SUMMARY:Women in America lecture | The Sociology of Gas Lighting
DESCRIPTION:Speaker: \nDr. Paige Sweet\, associate Professor of Sociology\, University of Michigan
URL:https://simpson.edu/event/women-in-america-lecture/
LOCATION:Hubbell Hall\, 701 N C St\, Indianola\, IA\, 50125\, United States
CATEGORIES:Women In America Lecture
END:VEVENT
BEGIN:VEVENT
DTSTART;TZID=America/Chicago:20260326T163000
DTEND;TZID=America/Chicago:20260326T163000
DTSTAMP:20260420T221706
CREATED:20260325T173345Z
LAST-MODIFIED:20260325T173406Z
UID:15072-1774542600-1774542600@simpson.edu
SUMMARY:Gallery Reception for Aswati Subramanian at SC Gallery of Art and Design
DESCRIPTION:Gallery Reception to celebrate Aswati Subramanian’s art exhibit. Aswati’s show is titled Space Coast and features 21 works of art created using various media. Her exhibition runs until April 24\, 2026. Regular gallery hours are M-F\, 9AM to 4:30PM.
URL:https://simpson.edu/event/gallery-reception-for-aswati-subramanian-at-sc-gallery-of-art-and-design/
LOCATION:Simpson College Gallery of Art and Design – Howard Street between Clinton and Detroit.\, 701 N C St\, Indianola\, IA\, 50125\, United States
ORGANIZER;CN="Justin Nostrala":MAILTO:justin.nostrala@simpson.edu
END:VEVENT
BEGIN:VEVENT
DTSTART;TZID=America/Chicago:20260326T190000
DTEND;TZID=America/Chicago:20260326T203000
DTSTAMP:20260420T221706
CREATED:20251212T164310Z
LAST-MODIFIED:20260120T174128Z
UID:13712-1774551600-1774557000@simpson.edu
SUMMARY:15th Annual Culver Lecture - Douglas Brinkley
DESCRIPTION:Presidential historian Douglas Brinkley\, Katherine Tsanoff Brown Chair in Humanities and professor of history at Rice University\, delivers the 15th Annual Culver Lecture at Simpson College. Brinkley is the author of 24 books on American history and the presidency. He appears regularly as a history commentator for CNN and is a contributing editor to the magazine Vanity Fair.
URL:https://simpson.edu/event/15th-annual-culver-lecture-douglas-brinkley/
LOCATION:Blank Performing Arts Center\, Pote Theatre\, 513 North D Street\, Indianola\, Iowa\, United States
CATEGORIES:Culver lecture
ORGANIZER;CN="Seth Andersen":MAILTO:seth.andersen@simpson.edu
END:VEVENT
BEGIN:VEVENT
DTSTART;TZID=America/Chicago:20260401T100000
DTEND;TZID=America/Chicago:20260401T170000
DTSTAMP:20260420T221706
CREATED:20260116T161853Z
LAST-MODIFIED:20260120T173137Z
UID:14121-1775037600-1775062800@simpson.edu
SUMMARY:Campus Day
DESCRIPTION:A day of no class\, where students\, staff and faculty spend time volunteering in the greater Indianola community.
URL:https://simpson.edu/event/campus-day/
LOCATION:Indianola Community
ORGANIZER;CN="Tayler Keitzer":MAILTO:tayler.keitzer@simpson.edu
END:VEVENT
BEGIN:VEVENT
DTSTART;TZID=America/Chicago:20260407T190000
DTEND;TZID=America/Chicago:20260407T190000
DTSTAMP:20260420T221706
CREATED:20260326T214215Z
LAST-MODIFIED:20260327T145038Z
UID:15090-1775588400-1775588400@simpson.edu
SUMMARY:Heartland Marimba Quartet
DESCRIPTION:Free Admission Concert at Lekberg Hall 7:00 P.M.
URL:https://simpson.edu/event/heartland-marimba-quartet/
LOCATION:ARMC Lekberg Hall
END:VEVENT
BEGIN:VEVENT
DTSTART;TZID=America/Chicago:20260411T190000
DTEND;TZID=America/Chicago:20260411T200000
DTSTAMP:20260420T221706
CREATED:20260408T204212Z
LAST-MODIFIED:20260408T211911Z
UID:15233-1775934000-1775937600@simpson.edu
SUMMARY:Spring Choir Concert
DESCRIPTION:“Let My Love Be Heard” featuring the Simpson College Choir and Chamber Singers
URL:https://simpson.edu/event/spring-choir-concert/
LOCATION:Smith Chapel\, 701 N C St\, Indianola\, IA\, 50125\, United States
ORGANIZER;CN="Renae Loomis":MAILTO:renae.loomis@simpson.edu
END:VEVENT
BEGIN:VEVENT
DTSTART;TZID=America/Chicago:20260414T173000
DTEND;TZID=America/Chicago:20260414T193000
DTSTAMP:20260420T221706
CREATED:20260323T181215Z
LAST-MODIFIED:20260323T210612Z
UID:15009-1776187800-1776195000@simpson.edu
SUMMARY:Simpson College Basketball Summer Camps
DESCRIPTION:The Simpson College Men’s & Women’s Coaching Staff & Current Players are excited to offer an exciting lineup of camps during the Summer of 2026! Our summer camps provide expert coaching\, structured drills & competitive play to improve the fundamentals\, skills & confidence of our camp participants. Whether a camper is a beginner to basketball or an advanced player\, our camps provide a valuable experience to everyone\, promoting growth on the court & love for the game. \nREGISTER \nLEARN MORE \n 
URL:https://simpson.edu/event/simpson-college-basketball-summer-camps/
LOCATION:Cowles Gym (Fieldhouse)\, 701 N C St\, Indianola\, IA\, 50125\, United States
ORGANIZER;CN="Claire Urias":MAILTO:Claire.Urias@simpson.edu
END:VEVENT
BEGIN:VEVENT
DTSTART;TZID=America/Chicago:20260417T193000
DTEND;TZID=America/Chicago:20260417T213000
DTSTAMP:20260420T221706
CREATED:20251212T161929Z
LAST-MODIFIED:20260120T173504Z
UID:13697-1776454200-1776461400@simpson.edu
SUMMARY:Simpson productions presents The Children's Hour by Lillian Hellman
DESCRIPTION:Simpson Productions 2025-26 Season \n \nRumor. Scandal. Destruction. Set in a school for girls run by two unmarried women\, this 1934 play examines the destructive force of a homophobic moral panic. Once a malicious youngster starts a rumor about the two women\, the community shuns them\, leading to tragedy.
URL:https://simpson.edu/event/simpson-productions-presents-the-childrens-hour-by-lillian-hellman/
LOCATION:Pote Theatre\, Blank Performing Arts Center\, 513 N D Street\, Indianola\, IA 50125\, United States
CATEGORIES:Cultural
END:VEVENT
BEGIN:VEVENT
DTSTART;TZID=America/Chicago:20260418T193000
DTEND;TZID=America/Chicago:20260418T213000
DTSTAMP:20260420T221706
CREATED:20251212T163448Z
LAST-MODIFIED:20251215T165200Z
UID:13707-1776540600-1776547800@simpson.edu
SUMMARY:Simpson Productions presents The Children's Hour by Lillian Hellman
DESCRIPTION:Simpson Productions 2025-26 Season \n \nRumor. Scandal. Destruction. Set in a school for girls run by two unmarried women\, this 1934 play examines the destructive force of a homophobic moral panic. Once a malicious youngster starts a rumor about the two women\, the community shuns them\, leading to tragedy.
URL:https://simpson.edu/event/simpson-productions-presents-the-childrens-hour-by-lillian-hellman-3/
LOCATION:Pote Theatre\, Blank Perdorming Arts Center\, 513 N D St Indianola\, IA\, United States
CATEGORIES:Cultural
END:VEVENT
BEGIN:VEVENT
DTSTART;TZID=America/Chicago:20260419T140000
DTEND;TZID=America/Chicago:20260419T160000
DTSTAMP:20260420T221706
CREATED:20251212T163112Z
LAST-MODIFIED:20260120T173535Z
UID:13702-1776607200-1776614400@simpson.edu
SUMMARY:Simpson Productions presents The Children's Hour by Lillian Hellman
DESCRIPTION:Rumor. Scandal. Destruction. Set in a school for girls run by two unmarried women\, this 1934 play examines the destructive force of a homophobic moral panic. Once a malicious youngster starts a rumor about the two women\, the community shuns them\, leading to tragedy.
URL:https://simpson.edu/event/simpson-productions-presents-the-childrens-hour-by-lillian-hellman-2/
LOCATION:Pote Theatre\, Blank Performing Arts Center\, 513 N D Street\, Indianola\, IA 50125\, United States
CATEGORIES:Cultural
END:VEVENT
BEGIN:VEVENT
DTSTART;TZID=America/Chicago:20260421T160000
DTEND;TZID=America/Chicago:20260421T190000
DTSTAMP:20260420T221706
CREATED:20260410T173636Z
LAST-MODIFIED:20260410T173637Z
UID:15251-1776787200-1776798000@simpson.edu
SUMMARY:Graduate Programs Preview
DESCRIPTION:Gain a glimpse into Simpson Online Graduate Degrees!\nGraduate Program Preview
URL:https://simpson.edu/event/graduate-programs-preview/
LOCATION:Hubbell Hall\, 701 N C St\, Indianola\, IA\, 50125\, United States
ORGANIZER;CN="Jennifer Chittenden":MAILTO:jennifer.chittenden@simpson.edu
END:VEVENT
BEGIN:VEVENT
DTSTART;TZID=America/Chicago:20260930T120000
DTEND;TZID=America/Chicago:20260930T140000
DTSTAMP:20260420T221706
CREATED:20251215T170138Z
LAST-MODIFIED:20251215T171421Z
UID:13843-1790769600-1790776800@simpson.edu
SUMMARY:Internship\, Career\, & Volunteer Fair
DESCRIPTION:Simpson’s annual Internship\, Career\, & Volunteer Fair will host employers from all industries seeking students for opportunities and conversations. This event is a must for students who are still exploring and for students who are actively seeking opportunities during or after college.
URL:https://simpson.edu/event/internship-career-volunteer-fair/
LOCATION:Kent Campus Center\, 701 N. C St. Indianola\, IA 50125\, United States
CATEGORIES:Internship
END:VEVENT
BEGIN:VEVENT
DTSTART;TZID=America/Chicago:20261111T160000
DTEND;TZID=America/Chicago:20261111T200000
DTSTAMP:20260420T221706
CREATED:20251212T153023Z
LAST-MODIFIED:20260305T205822Z
UID:13689-1794412800-1794427200@simpson.edu
SUMMARY:Teacher Education Mock Interview Event
DESCRIPTION:This event is required for certain classes for teacher education classes. School administrators from around the state will host mock interviews for students to grow their interview skills and confidence.
URL:https://simpson.edu/event/teacher-education-mock-interview-event/
LOCATION:Kent Campus\, IA
CATEGORIES:Education
ORGANIZER;CN="Kelsey Bolton":MAILTO:kelsey.bolton@simpson.edu
END:VEVENT
END:VCALENDAR